BEGIN:VCALENDAR
VERSION:2.0
PRODID:-//https://www.chsp.org.br///NONSGML kigkonsult.se iCalcreator 2.10.15//
METHOD:PUBLISH
BEGIN:VEVENT
UID:20260419T185651UTC-2269h3IbvF@https://www.chsp.org.br/
DTSTAMP:20260419T185651Z
DESCRIPTION:Consagrado por congressistas pela excelência apresentada nos úl
 timos anos\, o Congresso Brasileiro de Hematologia\, Hemoterapia e Terapia
  Celular (HEMO) acontecerá presencialmente entre os dias 29 de outubro a 1
  de novembro\, entre quarta-feira e sábado no Transamerica Expo Center\, e
 m São Paulo. Também haverá exposição dos painéis que\, para sua valorizaçã
 o\, recebe visita guiada por especialistas para maior discussão cientifica
  e estímulo à interação entre os pesquisadores. https://www.chsp.org.br/ar
 ea-medica/eventos/event/20-congresso-brasileiro-de-hematologia-hemoterapia
 -e-terapia-celular---hemo-2025
DTSTART:20251029T114646Z
DTEND:20251101T134646Z
LOCATION:Transamerica Expo Center\, em São Paulo. (Transamerica Expo Center
 \, em São Paulo.)
SUMMARY:Congresso Brasileiro de Hematologia\, Hemoterapia e Terapia Celular
  – HEMO 2025
URL:https://www.chsp.org.br/area-medica/eventos/event/20-congresso-brasilei
 ro-de-hematologia-hemoterapia-e-terapia-celular---hemo-2025
END:VEVENT
END:VCALENDAR
