BEGIN:VCALENDAR
VERSION:2.0
PRODID:-//https://www.chsp.org.br///NONSGML kigkonsult.se iCalcreator 2.10.15//
METHOD:PUBLISH
BEGIN:VEVENT
UID:20260421T125121UTC-78340vnpim@https://www.chsp.org.br/
DTSTAMP:20260421T125121Z
DESCRIPTION:\nLaboratorial trazem as inovações do ramo para São Paulo em se
 tembro\n\n\nEntre os dias 5 e 8 de setembro\, São Paulo vai sediar o 55º C
 ongresso Brasileiro de Patologia Clínica e Medicina Laboratorial - maior c
 ongresso do setor na América Latina. O evento acontece em paralelo à 32º e
 dição do Congresso Mundial da Associação Mundial de Sociedades de Patologi
 a e Medicina de Laboratório (WASPaLM)\, reunindo os mais renomados profiss
 ionais da área\, no PRO MAGNO Centro de Eventos. E as inscrições estão abe
 rtas. Esse ano\, o CBPCML abriga também o 32º WASPaLM\, que reúne Sociedad
 es de Patologia Clínica e Patologia da África\, Ásia\, América Latina\, Am
 érica do Norte e Europa.\nEntre congressistas\, visitantes\, palestrantes 
 e expositores\, são esperadas cerca de 4 mil pessoas vindas do Brasil\, Am
 érica Latina\, Estados Unidos\, Europa e Ásia\, com programação pré-congre
 sso&nbsp\;já no dia 4 de setembro\, com diversos cursos. No&nbsp\;congress
 o\, a partir do dia 5\, os participantes terão acesso a mais de 100 ativid
 ades entre conferências\, mesas redondas\, estudo de casos clínicos com es
 pecialistas brasileiros e estrangeiros.\nAlém disso\, o espaço do evento c
 om mais de 4 mil metros quadrados\, dará lugar a 90 empresas expositoras e
  marcas do setor\, comprometidas com as inovações do setor de laboratórios
  clínicos.\nEntre os palestrantes das Conferências Magnas estão o presiden
 te da Associação Mundial de Patologia Clínica e Medicina Laboratorial\, Ro
 berto Verna\, que vai falar de um assunto que frequentemente está nas manc
 hetes dos jornais: dopping. Outros temas – não menos urgentes - que também
  serão abordados nas Palestras Magnas: Cenário Atual e Controle das Pandem
 ias no Mundo\, com Denise Cardo\; Metodologias dos testes diagnósticos em 
 doenças hematopoiéticas presente-futuro\, por Robert S. Ohgami e Os impact
 os da Inovação para a sustentabilidade do laboratório e para a experiência
  do cliente\, com Krystin Poitier.\nO presidente da SBPC/ML\, Dr Fábio Bra
 zão\, reforça que os palestrantes foram cuidadosamente selecionadas pela d
 iretoria da SBPC/ML\, para que os temas sejam os mais atuais e inovadores.
  “Nós fazemos muitos eventos e cursos e temos visto uma demanda enorme por
  atualização. As tecnologias estão trazendo muitas mudanças\, as exigência
 s de qualidade são cada vez maiores e nós temos muitos aprendizados e expe
 riências a trocar. Vai ser um evento incrível a todos que participarem”\, 
 ressalta\nLink:&nbsp\;https://www.sbpc.org.br/pt/noticias-e-eventos/evento
 s-em-destaque/nacionais/55-congresso-brasileiro-de-patologia-clinica-medic
 ina-laboratorial\n https://www.chsp.org.br/area-medica/eventos/event/7-55-
 congresso-brasileiro-de-patologia-clinica-medicina-laboratorial
DTSTART:20230904T110000Z
DTEND:20230909T110000Z
LOCATION:Av. Profa. Ida Kolb\, 513 (Av. Profa. Ida Kolb\, 513)
SUMMARY:55º Congresso Brasileiro de Patologia Clínica / Medicina Laboratori
 al
URL:https://www.chsp.org.br/area-medica/eventos/event/7-55-congresso-brasil
 eiro-de-patologia-clinica-medicina-laboratorial
END:VEVENT
END:VCALENDAR
